BEGIN:VCALENDAR
VERSION:2.0
PRODID:-//Calgary House Concerts - ECPv6.15.20//NONSGML v1.0//EN
CALSCALE:GREGORIAN
METHOD:PUBLISH
X-ORIGINAL-URL:https://calgaryhouseconcerts.ca
X-WR-CALDESC:Events for Calgary House Concerts
REFRESH-INTERVAL;VALUE=DURATION:PT1H
X-Robots-Tag:noindex
X-PUBLISHED-TTL:PT1H
BEGIN:VTIMEZONE
TZID:America/Edmonton
BEGIN:DAYLIGHT
TZOFFSETFROM:-0700
TZOFFSETTO:-0600
TZNAME:MDT
DTSTART:20140309T090000
END:DAYLIGHT
BEGIN:STANDARD
TZOFFSETFROM:-0600
TZOFFSETTO:-0700
TZNAME:MST
DTSTART:20141102T080000
END:STANDARD
BEGIN:DAYLIGHT
TZOFFSETFROM:-0700
TZOFFSETTO:-0600
TZNAME:MDT
DTSTART:20150308T090000
END:DAYLIGHT
BEGIN:STANDARD
TZOFFSETFROM:-0600
TZOFFSETTO:-0700
TZNAME:MST
DTSTART:20151101T080000
END:STANDARD
BEGIN:DAYLIGHT
TZOFFSETFROM:-0700
TZOFFSETTO:-0600
TZNAME:MDT
DTSTART:20160313T090000
END:DAYLIGHT
BEGIN:STANDARD
TZOFFSETFROM:-0600
TZOFFSETTO:-0700
TZNAME:MST
DTSTART:20161106T080000
END:STANDARD
BEGIN:DAYLIGHT
TZOFFSETFROM:-0700
TZOFFSETTO:-0600
TZNAME:MDT
DTSTART:20170312T090000
END:DAYLIGHT
BEGIN:STANDARD
TZOFFSETFROM:-0600
TZOFFSETTO:-0700
TZNAME:MST
DTSTART:20171105T080000
END:STANDARD
END:VTIMEZONE
BEGIN:VEVENT
DTSTART;TZID=America/Edmonton:20160513T200000
DTEND;TZID=America/Edmonton:20160513T230000
DTSTAMP:20260421T163109
CREATED:20160320T145732Z
LAST-MODIFIED:20160418T125530Z
UID:586-1463169600-1463180400@calgaryhouseconcerts.ca
SUMMARY:Harpdog Brown & The Travelin' Blues Show
DESCRIPTION:Harpdog Brown is one the hardest working artists I know. This man has a schedule that seems to constantly have him on the road so I am totally stoked to have Harpdog Brown and The Travelin’ Blues Band stop in here for a night of what they do best…… “The Blues” \nWith a career spanning greater than 30 years Harpdog continues to entertain audiences all over North America it is easy to see and hear how much this man loves what he does. We are eagerly looking forward to his soon to be released 8th album and truly pleased his efforts were recognized for a 2nd consecutive year at The Maple Blues Awards “Canada’s Harmonica Player of The Year” 2014-2015 \nIf you have not seen Harpdog then you will not want to miss this opportunity to come spend an up close and personal evening with another of Canada’s premiere artists in a house concert setting. If you have seen him before you will know how an intimate setting is such a great fit for some Harpdog…. \nLimited 50 seats so please book today \nFriday May 13 8:00 PM  Hosted by Calgary House Concerts \nWebsite : Harpdog Brown & The Travelin’ Blues Show \nFacebook : Harpdog Brown & The Travelin’ Blues Show \nHosted by Calgary House Concerts\nFacebook : Calgary House Concerts \n\n				\n				\n				\n				\n				Reserve Your Seats for Harpdog Here\n				\n[formidable id=4]
URL:https://calgaryhouseconcerts.ca/event/harpdog-brown-travelin-blues-show-3/
LOCATION:Calgary House Concerts\, 3344 Boulton Road NW\, Calgary\, Alberta\, T2L1M4\, Canada
ORGANIZER;CN="Dave Donovan 403 605 4177":MAILTO:calgaryhouseconcerts@gmail.com
END:VEVENT
BEGIN:VEVENT
DTSTART;TZID=America/Edmonton:20160331T200000
DTEND;TZID=America/Edmonton:20160331T230000
DTSTAMP:20260421T163110
CREATED:20160117T050124Z
LAST-MODIFIED:20250530T113326Z
UID:407-1459454400-1459465200@calgaryhouseconcerts.ca
SUMMARY:The Romi Mayes Band House Concert March 31
DESCRIPTION:
URL:https://calgaryhouseconcerts.ca/event/the-romi-mayes-band-house-concert-march-31/
LOCATION:Calgary House Concerts\, 3344 Boulton Road NW\, Calgary\, Alberta\, T2L1M4\, Canada
ORGANIZER;CN="Dave Donovan 403 605 4177":MAILTO:calgaryhouseconcerts@gmail.com
END:VEVENT
BEGIN:VEVENT
DTSTART;TZID=America/Edmonton:20160220T200000
DTEND;TZID=America/Edmonton:20160220T230000
DTSTAMP:20260421T163110
CREATED:20160113T175414Z
LAST-MODIFIED:20160124T192419Z
UID:382-1455998400-1456009200@calgaryhouseconcerts.ca
SUMMARY:Maple Blues Award 2015 "Best New Artist/Group" The Kirby Sewell Band
DESCRIPTION:[wpecpp name=”Kirby Sewell Band” price=”20″ align=”center”]\n\n				\n				\n				\n				\n				Reserve Your Seat!\n				\n[formidable id=2]
URL:https://calgaryhouseconcerts.ca/event/the-kirby-sewell-band-house-concert/
LOCATION:Calgary House Concerts\, 3344 Boulton Road NW\, Calgary\, Alberta\, T2L1M4\, Canada
CATEGORIES:Upcoming House Concerts
ORGANIZER;CN="Dave Donovan 403 605 4177":MAILTO:calgaryhouseconcerts@gmail.com
END:VEVENT
BEGIN:VEVENT
DTSTART;TZID=America/Edmonton:20151017T200000
DTEND;TZID=America/Edmonton:20151017T230000
DTSTAMP:20260421T163110
CREATED:20150920T042505Z
LAST-MODIFIED:20150920T043431Z
UID:183-1445112000-1445122800@calgaryhouseconcerts.ca
SUMMARY:Randy Ouston Sat Oct 17
DESCRIPTION:I have had the good fortune to be able to get Randy O re-booked in October. \nTruly looking forward to having Randy up for an evening of up close and intimate entertainment.  Oct 17th promises to be a great night as Randy brings his decades of experiences and a multitude of talent(s) performing and writing in various performing arts communities. \nPlease email for address and seating availability (NW Calgary) calgaryhouseconcerts@gmail.com \nDoors Open at 7:00 PM \nShowtime at 8:00 PM
URL:https://calgaryhouseconcerts.ca/event/randy-ouston-sat-oct-17/
LOCATION:Calgary House Concerts\, 3344 Boulton Road NW\, Calgary\, Alberta\, T2L1M4\, Canada
ORGANIZER;CN="Dave Donovan 403 605 4177":MAILTO:calgaryhouseconcerts@gmail.com
END:VEVENT
BEGIN:VEVENT
DTSTART;TZID=America/Edmonton:20150814T200000
DTEND;TZID=America/Edmonton:20150814T230000
DTSTAMP:20260421T163110
CREATED:20160123T215700Z
LAST-MODIFIED:20250530T113010Z
UID:491-1439582400-1439593200@calgaryhouseconcerts.ca
SUMMARY:Romi Mayes Acoustic House Concert August 14 2015
DESCRIPTION:What a thrill to have award winning ROMI MAYES and Chris Carmicheal stop in for an intimate evening of Live music in the Community \n 
URL:https://calgaryhouseconcerts.ca/event/romi-mayes-acoustic-house-concert-august-14-2015/
LOCATION:Calgary House Concerts\, 3344 Boulton Road NW\, Calgary\, Alberta\, T2L1M4\, Canada
ATTACH;FMTTYPE=image/webp:https://calgaryhouseconcerts.ca/wp-content/uploads/2016/01/romi-1080-july-24-20231200-x-630-WEPB.webp
END:VEVENT
BEGIN:VEVENT
DTSTART;TZID=America/Edmonton:20150502T200000
DTEND;TZID=America/Edmonton:20150502T230000
DTSTAMP:20260421T163110
CREATED:20160123T221403Z
LAST-MODIFIED:20250529T140457Z
UID:501-1430596800-1430607600@calgaryhouseconcerts.ca
SUMMARY:steve-pineo-solo-house-concert-may-2-2015
DESCRIPTION:
URL:https://calgaryhouseconcerts.ca/event/steve-pineo-solo-house-concert-may-2-2015/
LOCATION:Alberta
ATTACH;FMTTYPE=image/jpeg:https://calgaryhouseconcerts.ca/wp-content/uploads/2016/01/house-concert-May-2-Steve-Pineo-pdf-ai-jpg-fb-opt-1.jpg
END:VEVENT
END:VCALENDAR